BEGIN:VCALENDAR
VERSION:2.0
PRODID:-//Intand Corporation//Tandem//EN
METHOD:PUBLISH
BEGIN:VEVENT
DTSTAMP:20260419T121030Z
DTSTART:20260506T230000Z
DTEND:20260507T000000Z
TRANSP:TRANSPARENT
PRIORITY:0
SUMMARY:Strings Concert 
LOCATION:Auditorium
DESCRIPTION:Setup: 5:30 pm\nBreakdown: 9:00 pm\n\nGroups:\nLutheran Elemen
 tary Strings\n\nSchools:\nConcordia Lutheran High School\n\nLocation:\nAud
 itorium\n\n
URL;VALUE=URI:http://clhscadets.tandem.co/index.php?type=view&action=event
 &id=56635
CREATED:20250306T193902Z
LAST-MODIFIED:20250306T193902Z
UID:event-56635-concordialutheranhigh@intand.com
END:VEVENT
END:VCALENDAR
