BEGIN:VCALENDAR
VERSION:2.0
PRODID:-//Intand Corporation//Tandem//EN
METHOD:PUBLISH
BEGIN:VEVENT
DTSTAMP:20260419T121112Z
DTSTART:20260528T223000Z
DTEND:20260529T020000Z
TRANSP:TRANSPARENT
PRIORITY:0
SUMMARY:Drama Awards Night
LOCATION:Auditorium\, Aud. Lobby
DESCRIPTION:Groups:\nConcordia Lutheran High Drama\n\nSchools:\nConcordia 
 Lutheran High School\n\nLocations:\nAuditorium\nAud. Lobby\n\n
URL;VALUE=URI:http://clhscadets.tandem.co/index.php?type=view&action=event
 &id=56642
CREATED:20250306T194126Z
LAST-MODIFIED:20250306T194126Z
UID:event-56642-concordialutheranhigh@intand.com
END:VEVENT
END:VCALENDAR
