BEGIN:VCALENDAR
VERSION:2.0
PRODID:-//Intand Corporation//Tandem//EN
METHOD:PUBLISH
BEGIN:VEVENT
DTSTAMP:20260419T121029Z
DTSTART:20260528T220000Z
DTEND:20260529T010000Z
TRANSP:TRANSPARENT
PRIORITY:0
SUMMARY:BTR @ Regional
LOCATION:Carroll High School
DESCRIPTION: \n\n\n\nGroups:\nConcordia Lutheran High Track Boys\n\nSchool
 s:\nConcordia Lutheran High School\nCarroll High School\n\nLocation:\nCarr
 oll High School\n\n \n\n\n
X-ALT-DESC;FMTTYPE=text/html:<!doctype html><html><body><p> </p><br /><br 
 />Groups:<br />Concordia Lutheran High Track Boys<br /><br />Schools:<br /
 >Concordia Lutheran High School<br />Carroll High School<br /><br />Locati
 on:<br />Carroll High School<br /><br />Notes:<br /><p> </p><br /></body><
 /html>
URL;VALUE=URI:http://clhscadets.tandem.co/index.php?type=view&action=event
 &id=57960
CREATED:20250624T160117Z
LAST-MODIFIED:20250624T160117Z
UID:event-57960-concordialutheranhigh@intand.com
END:VEVENT
END:VCALENDAR
