BEGIN:VCALENDAR
VERSION:2.0
PRODID:-//Intand Corporation//Tandem//EN
METHOD:PUBLISH
BEGIN:VEVENT
DTSTAMP:20260419T151437Z
DTSTART:20260905T151500Z
DTEND:20260905T173000Z
TRANSP:TRANSPARENT
PRIORITY:0
SUMMARY:VFLAG @ South Side
LOCATION:Northrop High School
DESCRIPTION: \n\n\n\nGroups:\nConcordia Lutheran High Flag Football\n\nSch
 ools:\nConcordia Lutheran High School\nNorthrop High School\nSouth Side Hi
 gh School\n\nLocation:\nNorthrop High School\n\n \n\n\n
X-ALT-DESC;FMTTYPE=text/html:<!doctype html><html><body><p> </p><br /><br 
 />Groups:<br />Concordia Lutheran High Flag Football<br /><br />Schools:<b
 r />Concordia Lutheran High School<br />Northrop High School<br />South Si
 de High School<br /><br />Location:<br />Northrop High School<br /><br />N
 otes:<br /><p> </p><br /></body></html>
URL;VALUE=URI:http://clhscadets.tandem.co/index.php?type=view&action=event
 &id=58950
CREATED:20260101T175411Z
LAST-MODIFIED:20260101T175411Z
UID:event-58950-concordialutheranhigh@intand.com
END:VEVENT
END:VCALENDAR
