BEGIN:VCALENDAR
VERSION:2.0
PRODID:-//Intand Corporation//Tandem//EN
METHOD:PUBLISH
BEGIN:VEVENT
DTSTAMP:20260419T151342Z
DTSTART:20261015T220000Z
DTEND:20261016T003000Z
TRANSP:TRANSPARENT
PRIORITY:0
SUMMARY:FFB @ South Side
LOCATION:South Side High School
DESCRIPTION: \n\n\n\nGroups:\nConcordia Lutheran High Football Freshman (N
 eutral)\n\nSchools:\nConcordia Lutheran High School (Away)\nSouth Side Hig
 h School (Home)\n\nLocation:\nSouth Side High School\n\n \n\n\n
X-ALT-DESC;FMTTYPE=text/html:<!doctype html><html><body><p> </p><br /><br 
 />Groups:<br />Concordia Lutheran High Football Freshman (Neutral)<br /><b
 r />Schools:<br />Concordia Lutheran High School (Away)<br />South Side Hi
 gh School (Home)<br /><br />Location:<br />South Side High School<br /><br
  />Notes:<br /><p> </p><br /></body></html>
URL;VALUE=URI:http://clhscadets.tandem.co/index.php?type=view&action=event
 &id=58960
CREATED:20260101T180024Z
LAST-MODIFIED:20260101T180024Z
UID:event-58960-concordialutheranhigh@intand.com
END:VEVENT
END:VCALENDAR
