BEGIN:VCALENDAR
VERSION:2.0
PRODID:-//Intand Corporation//Tandem//EN
METHOD:PUBLISH
BEGIN:VEVENT
DTSTAMP:20260419T121030Z
DTSTART:20261016T230000Z
DTEND:20261017T020000Z
TRANSP:TRANSPARENT
PRIORITY:0
SUMMARY:VFB v. Homestead
LOCATION:Zollner Stadium
DESCRIPTION: \n\n\n\nGroups:\nConcordia Lutheran High Football Varsity (Ne
 utral)\n\nSchools:\nConcordia Lutheran High School (Home)\nHomestead High 
 School (Away)\n\nLocation:\nZollner Stadium\n\n \n\n\n
X-ALT-DESC;FMTTYPE=text/html:<!doctype html><html><body><p> </p><br /><br 
 />Groups:<br />Concordia Lutheran High Football Varsity (Neutral)<br /><br
  />Schools:<br />Concordia Lutheran High School (Home)<br />Homestead High
  School (Away)<br /><br />Location:<br />Zollner Stadium<br /><br />Notes:
 <br /><p> </p><br /></body></html>
URL;VALUE=URI:http://clhscadets.tandem.co/index.php?type=view&action=event
 &id=58978
CREATED:20260101T181033Z
LAST-MODIFIED:20260101T181033Z
UID:event-58978-concordialutheranhigh@intand.com
END:VEVENT
END:VCALENDAR
