BEGIN:VCALENDAR
VERSION:2.0
PRODID:-//Intand Corporation//Tandem//EN
METHOD:PUBLISH
BEGIN:VEVENT
DTSTAMP:20260419T184350Z
DTSTART:20260804T120000Z
DTEND:20260804T190000Z
TRANSP:TRANSPARENT
PRIORITY:0
SUMMARY:GGOLF @ Huntington Invitational
LOCATION:Huntington North High School
DESCRIPTION: \n\n\n\nGroups:\nConcordia Lutheran High Golf Girls Varsity (
 Neutral)\n\nSchools:\nConcordia Lutheran High School (Away)\n\nLocation:\n
 Huntington North High School\n\n \n\n\n
X-ALT-DESC;FMTTYPE=text/html:<!doctype html><html><body><p> </p><br /><br 
 />Groups:<br />Concordia Lutheran High Golf Girls Varsity (Neutral)<br /><
 br />Schools:<br />Concordia Lutheran High School (Away)<br /><br />Locati
 on:<br />Huntington North High School<br /><br />Notes:<br /><p> </p><br /
 ></body></html>
URL;VALUE=URI:http://clhscadets.tandem.co/index.php?type=view&action=event
 &id=58992
CREATED:20260101T181637Z
LAST-MODIFIED:20260101T181637Z
UID:event-58992-concordialutheranhigh@intand.com
END:VEVENT
END:VCALENDAR
