BEGIN:VCALENDAR
VERSION:2.0
PRODID:-//Intand Corporation//Tandem//EN
METHOD:PUBLISH
BEGIN:VEVENT
DTSTAMP:20260419T121309Z
DTSTART:20260827T220000Z
DTEND:20260827T230000Z
TRANSP:TRANSPARENT
PRIORITY:0
SUMMARY:RVB @ Heritage
LOCATION:Heritage Jr/Sr High School
DESCRIPTION: \n\n\n\nGroups:\nConcordia Lutheran High Volleyball JV (Neutr
 al)\n\nSchools:\nConcordia Lutheran High School (Away)\nHeritage Jr/Sr Hig
 h School (Home)\n\nLocation:\nHeritage Jr/Sr High School\n\n \n\n\n
X-ALT-DESC;FMTTYPE=text/html:<!doctype html><html><body><p> </p><br /><br 
 />Groups:<br />Concordia Lutheran High Volleyball JV (Neutral)<br /><br />
 Schools:<br />Concordia Lutheran High School (Away)<br />Heritage Jr/Sr Hi
 gh School (Home)<br /><br />Location:<br />Heritage Jr/Sr High School<br /
 ><br />Notes:<br /><p> </p><br /></body></html>
URL;VALUE=URI:http://clhscadets.tandem.co/index.php?type=view&action=event
 &id=59173
CREATED:20260103T191208Z
LAST-MODIFIED:20260103T191208Z
UID:event-59173-concordialutheranhigh@intand.com
END:VEVENT
END:VCALENDAR
