BEGIN:VCALENDAR
VERSION:2.0
PRODID:-//Intand Corporation//Tandem//EN
METHOD:PUBLISH
BEGIN:VEVENT
DTSTAMP:20260419T121031Z
DTSTART:20260929T213000Z
DTEND:20260929T223000Z
TRANSP:TRANSPARENT
PRIORITY:0
SUMMARY:RVB @ Wayne
LOCATION:Wayne High School
DESCRIPTION: \n\n\n\nGroups:\nConcordia Lutheran High Volleyball JV (Neutr
 al)\n\nSchools:\nConcordia Lutheran High School (Away)\nWayne High School 
 (Home)\n\nLocation:\nWayne High School\n\n \n\n\n
X-ALT-DESC;FMTTYPE=text/html:<!doctype html><html><body><p> </p><br /><br 
 />Groups:<br />Concordia Lutheran High Volleyball JV (Neutral)<br /><br />
 Schools:<br />Concordia Lutheran High School (Away)<br />Wayne High School
  (Home)<br /><br />Location:<br />Wayne High School<br /><br />Notes:<br /
 ><p> </p><br /></body></html>
URL;VALUE=URI:http://clhscadets.tandem.co/index.php?type=view&action=event
 &id=59178
CREATED:20260103T191445Z
LAST-MODIFIED:20260103T191445Z
UID:event-59178-concordialutheranhigh@intand.com
END:VEVENT
END:VCALENDAR
