BEGIN:VCALENDAR
VERSION:2.0
PRODID:-//Intand Corporation//Tandem//EN
METHOD:PUBLISH
BEGIN:VEVENT
DTSTAMP:20260419T121309Z
DTSTART:20261003T130000Z
DTEND:20261003T180000Z
TRANSP:TRANSPARENT
PRIORITY:0
SUMMARY:RVB @ SAC JV Tournament
LOCATION:Northrop High School
DESCRIPTION: \n\n\n\nGroups:\nConcordia Lutheran High Volleyball JV (Neutr
 al)\n\nSchools:\nConcordia Lutheran High School (Away)\nNorthrop High Scho
 ol (Neutral)\n\nLocation:\nNorthrop High School\n\n \n\n\n
X-ALT-DESC;FMTTYPE=text/html:<!doctype html><html><body><p> </p><br /><br 
 />Groups:<br />Concordia Lutheran High Volleyball JV (Neutral)<br /><br />
 Schools:<br />Concordia Lutheran High School (Away)<br />Northrop High Sch
 ool (Neutral)<br /><br />Location:<br />Northrop High School<br /><br />No
 tes:<br /><p> </p><br /></body></html>
URL;VALUE=URI:http://clhscadets.tandem.co/index.php?type=view&action=event
 &id=59179
CREATED:20260103T191517Z
LAST-MODIFIED:20260103T191517Z
UID:event-59179-concordialutheranhigh@intand.com
END:VEVENT
END:VCALENDAR
