BEGIN:VCALENDAR
VERSION:2.0
PRODID:-//Intand Corporation//Tandem//EN
METHOD:PUBLISH
BEGIN:VEVENT
DTSTAMP:20260419T121310Z
DTSTART:20261008T213000Z
DTEND:20261008T223000Z
TRANSP:TRANSPARENT
PRIORITY:0
SUMMARY:RVB @ Northrop
LOCATION:Northrop High School
DESCRIPTION: \n\n\n\nGroups:\nConcordia Lutheran High Volleyball JV (Neutr
 al)\n\nSchools:\nConcordia Lutheran High School (Away)\nNorthrop High Scho
 ol (Home)\n\nLocation:\nNorthrop High School\n\n \n\n\n
X-ALT-DESC;FMTTYPE=text/html:<!doctype html><html><body><p> </p><br /><br 
 />Groups:<br />Concordia Lutheran High Volleyball JV (Neutral)<br /><br />
 Schools:<br />Concordia Lutheran High School (Away)<br />Northrop High Sch
 ool (Home)<br /><br />Location:<br />Northrop High School<br /><br />Notes
 :<br /><p> </p><br /></body></html>
URL;VALUE=URI:http://clhscadets.tandem.co/index.php?type=view&action=event
 &id=59180
CREATED:20260103T191545Z
LAST-MODIFIED:20260103T191545Z
UID:event-59180-concordialutheranhigh@intand.com
END:VEVENT
END:VCALENDAR
