BEGIN:VCALENDAR
VERSION:2.0
PRODID:-//Intand Corporation//Tandem//EN
METHOD:PUBLISH
BEGIN:VEVENT
DTSTAMP:20260419T121029Z
DTSTART:20260902T230000Z
DTEND:20260903T010000Z
TRANSP:TRANSPARENT
PRIORITY:0
SUMMARY:VVB v. Leo
LOCATION:Main Gym\, Cafeteria
DESCRIPTION: \n\n\n\nGroups:\nConcordia Lutheran High Volleyball Varsity (
 Neutral)\n\nSchools:\nConcordia Lutheran High School (Home)\nLeo Junior/Se
 nior High School (Away)\n\nLocations:\nMain Gym\nCafeteria\n\n \n\n\n
X-ALT-DESC;FMTTYPE=text/html:<!doctype html><html><body><p> </p><br /><br 
 />Groups:<br />Concordia Lutheran High Volleyball Varsity (Neutral)<br /><
 br />Schools:<br />Concordia Lutheran High School (Home)<br />Leo Junior/S
 enior High School (Away)<br /><br />Locations:<br />Main Gym<br />Cafeteri
 a<br /><br />Notes:<br /><p> </p><br /></body></html>
URL;VALUE=URI:http://clhscadets.tandem.co/index.php?type=view&action=event
 &id=59182
CREATED:20260103T191742Z
LAST-MODIFIED:20260103T191742Z
UID:event-59182-concordialutheranhigh@intand.com
END:VEVENT
END:VCALENDAR
