BEGIN:VCALENDAR
VERSION:2.0
PRODID:-//Intand Corporation//Tandem//EN
METHOD:PUBLISH
BEGIN:VEVENT
DTSTAMP:20260419T121150Z
DTSTART:20260917T230000Z
DTEND:20260918T010000Z
TRANSP:TRANSPARENT
PRIORITY:0
SUMMARY:VVB v. Blackhawk Christian
LOCATION:Main Gym\, Cafeteria
DESCRIPTION: \n\n\n\nGroups:\nConcordia Lutheran High Volleyball Varsity (
 Neutral)\n\nSchools:\nConcordia Lutheran High School (Home)\nBlackhawk Chr
 istian School (Away)\n\nLocations:\nMain Gym\nCafeteria\n\n \n\n\n
X-ALT-DESC;FMTTYPE=text/html:<!doctype html><html><body><p> </p><br /><br 
 />Groups:<br />Concordia Lutheran High Volleyball Varsity (Neutral)<br /><
 br />Schools:<br />Concordia Lutheran High School (Home)<br />Blackhawk Ch
 ristian School (Away)<br /><br />Locations:<br />Main Gym<br />Cafeteria<b
 r /><br />Notes:<br /><p> </p><br /></body></html>
URL;VALUE=URI:http://clhscadets.tandem.co/index.php?type=view&action=event
 &id=59184
CREATED:20260103T191859Z
LAST-MODIFIED:20260103T191859Z
UID:event-59184-concordialutheranhigh@intand.com
END:VEVENT
END:VCALENDAR
