BEGIN:VCALENDAR
VERSION:2.0
PRODID:-//Intand Corporation//Tandem//EN
METHOD:PUBLISH
BEGIN:VEVENT
DTSTAMP:20260419T120558Z
DTSTART:20260827T230000Z
DTEND:20260828T010000Z
TRANSP:TRANSPARENT
PRIORITY:0
SUMMARY:VVB @ Heritage
LOCATION:Heritage Jr/Sr High School
DESCRIPTION: \n\n\n\nGroups:\nConcordia Lutheran High Volleyball Varsity (
 Neutral)\n\nSchools:\nConcordia Lutheran High School (Away)\nHeritage Jr/S
 r High School (Home)\n\nLocation:\nHeritage Jr/Sr High School\n\n \n\n\n
X-ALT-DESC;FMTTYPE=text/html:<!doctype html><html><body><p> </p><br /><br 
 />Groups:<br />Concordia Lutheran High Volleyball Varsity (Neutral)<br /><
 br />Schools:<br />Concordia Lutheran High School (Away)<br />Heritage Jr/
 Sr High School (Home)<br /><br />Location:<br />Heritage Jr/Sr High School
 <br /><br />Notes:<br /><p> </p><br /></body></html>
URL;VALUE=URI:http://clhscadets.tandem.co/index.php?type=view&action=event
 &id=59191
CREATED:20260103T192228Z
LAST-MODIFIED:20260103T192228Z
UID:event-59191-concordialutheranhigh@intand.com
END:VEVENT
END:VCALENDAR
