BEGIN:VCALENDAR
VERSION:2.0
PRODID:-//Intand Corporation//Tandem//EN
METHOD:PUBLISH
BEGIN:VEVENT
DTSTAMP:20260419T120647Z
DTSTART:20260903T230000Z
DTEND:20260904T010000Z
TRANSP:TRANSPARENT
PRIORITY:0
SUMMARY:VVB @ Columbia City
LOCATION:Columbia City High School
DESCRIPTION: \n\n\n\nGroups:\nConcordia Lutheran High Volleyball Varsity (
 Neutral)\n\nSchools:\nConcordia Lutheran High School (Away)\nColumbia City
  High School (Home)\n\nLocation:\nColumbia City High School\n\n \n\n\n
X-ALT-DESC;FMTTYPE=text/html:<!doctype html><html><body><p> </p><br /><br 
 />Groups:<br />Concordia Lutheran High Volleyball Varsity (Neutral)<br /><
 br />Schools:<br />Concordia Lutheran High School (Away)<br />Columbia Cit
 y High School (Home)<br /><br />Location:<br />Columbia City High School<b
 r /><br />Notes:<br /><p> </p><br /></body></html>
URL;VALUE=URI:http://clhscadets.tandem.co/index.php?type=view&action=event
 &id=59193
CREATED:20260103T192330Z
LAST-MODIFIED:20260103T192330Z
UID:event-59193-concordialutheranhigh@intand.com
END:VEVENT
END:VCALENDAR
