BEGIN:VCALENDAR
VERSION:2.0
PRODID:-//Intand Corporation//Tandem//EN
METHOD:PUBLISH
BEGIN:VEVENT
DTSTAMP:20260419T120610Z
DTSTART:20260915T230000Z
DTEND:20260916T010000Z
TRANSP:TRANSPARENT
PRIORITY:0
SUMMARY:VVB @ Snider
LOCATION:R Nelson Snider High School
DESCRIPTION: \n\n\n\nGroups:\nConcordia Lutheran High Volleyball Varsity (
 Neutral)\n\nSchools:\nConcordia Lutheran High School (Away)\nR Nelson Snid
 er High School (Home)\n\nLocation:\nR Nelson Snider High School\n\n \n\n\n
X-ALT-DESC;FMTTYPE=text/html:<!doctype html><html><body><p> </p><br /><br 
 />Groups:<br />Concordia Lutheran High Volleyball Varsity (Neutral)<br /><
 br />Schools:<br />Concordia Lutheran High School (Away)<br />R Nelson Sni
 der High School (Home)<br /><br />Location:<br />R Nelson Snider High Scho
 ol<br /><br />Notes:<br /><p> </p><br /></body></html>
URL;VALUE=URI:http://clhscadets.tandem.co/index.php?type=view&action=event
 &id=59196
CREATED:20260103T192507Z
LAST-MODIFIED:20260103T192508Z
UID:event-59196-concordialutheranhigh@intand.com
END:VEVENT
END:VCALENDAR
