BEGIN:VCALENDAR
VERSION:2.0
PRODID:-//Intand Corporation//Tandem//EN
METHOD:PUBLISH
BEGIN:VEVENT
DTSTAMP:20260419T120646Z
DTSTART:20260922T230000Z
DTEND:20260923T010000Z
TRANSP:TRANSPARENT
PRIORITY:0
SUMMARY:VVB @ South Side
LOCATION:South Side High School
DESCRIPTION: \n\n\n\nGroups:\nConcordia Lutheran High Volleyball Varsity (
 Neutral)\n\nSchools:\nConcordia Lutheran High School (Away)\nSouth Side Hi
 gh School (Home)\n\nLocation:\nSouth Side High School\n\n \n\n\n
X-ALT-DESC;FMTTYPE=text/html:<!doctype html><html><body><p> </p><br /><br 
 />Groups:<br />Concordia Lutheran High Volleyball Varsity (Neutral)<br /><
 br />Schools:<br />Concordia Lutheran High School (Away)<br />South Side H
 igh School (Home)<br /><br />Location:<br />South Side High School<br /><b
 r />Notes:<br /><p> </p><br /></body></html>
URL;VALUE=URI:http://clhscadets.tandem.co/index.php?type=view&action=event
 &id=59197
CREATED:20260103T192539Z
LAST-MODIFIED:20260103T192539Z
UID:event-59197-concordialutheranhigh@intand.com
END:VEVENT
END:VCALENDAR
