BEGIN:VCALENDAR
VERSION:2.0
PRODID:-//Intand Corporation//Tandem//EN
METHOD:PUBLISH
BEGIN:VEVENT
DTSTAMP:20260419T121308Z
DTSTART:20260820T230000Z
DTEND:20260821T000000Z
TRANSP:TRANSPARENT
PRIORITY:0
SUMMARY:VVB vs. West Noble
LOCATION:Main Gym
DESCRIPTION:Groups:\nConcordia Lutheran High Volleyball Varsity\n\nSchools
 :\nConcordia Lutheran High School\n\nLocation:\nMain Gym\n\n
URL;VALUE=URI:http://clhscadets.tandem.co/index.php?type=view&action=event
 &id=59494
CREATED:20260130T172446Z
LAST-MODIFIED:20260130T172446Z
UID:event-59494-concordialutheranhigh@intand.com
END:VEVENT
END:VCALENDAR
