BEGIN:VCALENDAR
VERSION:2.0
PRODID:-//Intand Corporation//Tandem//EN
METHOD:PUBLISH
BEGIN:VEVENT
DTSTAMP:20260419T120647Z
DTSTART:20260709T123000Z
DTEND:20260709T153000Z
TRANSP:TRANSPARENT
PRIORITY:0
SUMMARY:Soccer Camp - Grades K - 3 (Coed)
LOCATION:Zollner Stadium
DESCRIPTION:Groups:\nConcordia Lutheran High Soccer Girls Varsity\nConcord
 ia Lutheran High Soccer Girls JV\nConcordia Lutheran High Soccer Boys Vars
 ity\nConcordia Lutheran High Soccer Boys JV\n\nSchools:\nConcordia Luthera
 n High School\n\nLocation:\nZollner Stadium\n\n
URL;VALUE=URI:http://clhscadets.tandem.co/index.php?type=view&action=event
 &id=59659
CREATED:20260212T125113Z
LAST-MODIFIED:20260212T125113Z
UID:event-59659-concordialutheranhigh@intand.com
END:VEVENT
END:VCALENDAR
