BEGIN:VCALENDAR
VERSION:2.0
PRODID:-//Intand Corporation//Tandem//EN
METHOD:PUBLISH
BEGIN:VEVENT
DTSTAMP:20260419T120703Z
DTSTART:20270212T230000Z
DTEND:20270214T030000Z
TRANSP:TRANSPARENT
PRIORITY:0
SUMMARY:24 Hour Theater Festival 
LOCATION:Cafeteria\, Auditorium\, Aud. Lobby\, Worship Conference Center
DESCRIPTION:Groups:\nConcordia Lutheran High Drama\n\nSchools:\nConcordia 
 Lutheran High School\n\nLocations:\nCafeteria\nAuditorium\nAud. Lobby\nWor
 ship Conference Center\n\n
URL;VALUE=URI:http://clhscadets.tandem.co/index.php?type=view&action=event
 &id=60299
CREATED:20260315T192405Z
LAST-MODIFIED:20260315T192405Z
UID:event-60299-concordialutheranhigh@intand.com
END:VEVENT
END:VCALENDAR
