BEGIN:VCALENDAR
VERSION:2.0
PRODID:-//Intand Corporation//Tandem//EN
METHOD:PUBLISH
BEGIN:VEVENT
DTSTAMP:20260419T120702Z
DTSTART;VALUE=DATE:20270306
DTEND;VALUE=DATE:20270307
TRANSP:TRANSPARENT
PRIORITY:0
SUMMARY:ISSMA Jazz Contest
LOCATION:Carroll High School
DESCRIPTION:Groups:\nConcordia Lutheran High Jazz Band\nConcordia Lutheran
  High A Cappella Choir\nConcordia Lutheran High Orchestra\n\nSchools:\nCon
 cordia Lutheran High School\nCarroll High School\n\nLocation:\nCarroll Hig
 h School\n\n
URL;VALUE=URI:http://clhscadets.tandem.co/index.php?type=view&action=event
 &id=60305
CREATED:20260315T200225Z
LAST-MODIFIED:20260315T200225Z
UID:event-60305-concordialutheranhigh@intand.com
END:VEVENT
END:VCALENDAR
