BEGIN:VCALENDAR
VERSION:2.0
PRODID:-//Intand Corporation//Tandem//EN
METHOD:PUBLISH
BEGIN:VEVENT
DTSTAMP:20260419T120646Z
DTSTART:20270106T003000Z
DTEND:20270106T023000Z
TRANSP:TRANSPARENT
PRIORITY:0
SUMMARY:VBB vs. Lakewood Park Christian
LOCATION:Main Gym
DESCRIPTION:Groups:\nConcordia Lutheran High Basketball Boys Varsity\n\nSc
 hools:\nConcordia Lutheran High School\n\nLocation:\nMain Gym\n\n
URL;VALUE=URI:http://clhscadets.tandem.co/index.php?type=view&action=event
 &id=60497
CREATED:20260407T144352Z
LAST-MODIFIED:20260407T144352Z
UID:event-60497-concordialutheranhigh@intand.com
END:VEVENT
END:VCALENDAR
